BEGIN:VCALENDAR
VERSION:2.0
PRODID:-// - ECPv6.15.13//NONSGML v1.0//EN
CALSCALE:GREGORIAN
METHOD:PUBLISH
X-ORIGINAL-URL:https://www.entreprendrevert.org
X-WR-CALDESC:Évènements pour 
REFRESH-INTERVAL;VALUE=DURATION:PT1H
X-Robots-Tag:noindex
X-PUBLISHED-TTL:PT1H
BEGIN:VTIMEZONE
TZID:Europe/Paris
BEGIN:DAYLIGHT
TZOFFSETFROM:+0100
TZOFFSETTO:+0200
TZNAME:CEST
DTSTART:20210328T010000
END:DAYLIGHT
BEGIN:STANDARD
TZOFFSETFROM:+0200
TZOFFSETTO:+0100
TZNAME:CET
DTSTART:20211031T010000
END:STANDARD
BEGIN:DAYLIGHT
TZOFFSETFROM:+0100
TZOFFSETTO:+0200
TZNAME:CEST
DTSTART:20220327T010000
END:DAYLIGHT
BEGIN:STANDARD
TZOFFSETFROM:+0200
TZOFFSETTO:+0100
TZNAME:CET
DTSTART:20221030T010000
END:STANDARD
BEGIN:DAYLIGHT
TZOFFSETFROM:+0100
TZOFFSETTO:+0200
TZNAME:CEST
DTSTART:20230326T010000
END:DAYLIGHT
BEGIN:STANDARD
TZOFFSETFROM:+0200
TZOFFSETTO:+0100
TZNAME:CET
DTSTART:20231029T010000
END:STANDARD
END:VTIMEZONE
BEGIN:VEVENT
DTSTART;TZID=Europe/Paris:20220916T170000
DTEND;TZID=Europe/Paris:20220916T190000
DTSTAMP:20260421T110558
CREATED:20220721T163020Z
LAST-MODIFIED:20220721T163134Z
UID:2469-1663347600-1663354800@www.entreprendrevert.org
SUMMARY:Assemblée Générale - Ecopreneur.eu
DESCRIPTION:Tous les membres des associations rattachées à Ecopreneur.eu sont invités à la prochaine assemblée générale de l’association qui se tiendra le 16 Septembre à Bruxelles. L’objectif sera d’aligner nos actions de plaidoyer en identifiant les obstacles juridiques communs sur lesquels nous travaillerons par la suite.  \n \nEcopreneur.eu késako ? \nEcopreneur.eu incarne la voix politique de l’entrepreunariat responsable en Europe. Sa mission est d’influencer la sphère publique en matière de développement durable et d’économie verte\, de représenter les intérêts des PME à impact et d’oeuvrer à l’amélioration des standards environnementaux à l’échelle européenne.  \nL’organisation est en lien avec sept associations nationales dans différent pays membres de l’UE : Entreprendre Vert (France)\, Bundesverband Nachhaltige Wirtschaft – BNW (Germany)\, Grüne Wirtschaft (Austria)\, MVO Nederland  (Netherlands)\, Coalition Ecopreneur-Kaya (Belgium)\, CirEko (Sweden) and the Responsible Business Forum (Estonia). Au total\, Ecopreneur.eu représente plus de 3000 entreprises à impact à travers l’Europe. 
URL:https://www.entreprendrevert.org/event/assemblee-generale-ecopreneur-eu/
LOCATION:Bruxelles\, Belgique
CATEGORIES:Agenda
ATTACH;FMTTYPE=image/png:https://www.entreprendrevert.org/wp-content/uploads/2022/07/Facebook-Cover-Assemblée-Générale-Ecopreneur.eu_.png
END:VEVENT
BEGIN:VEVENT
DTSTART;TZID=Europe/Paris:20220826T173000
DTEND;TZID=Europe/Paris:20220826T193000
DTSTAMP:20260421T110558
CREATED:20220712T103532Z
LAST-MODIFIED:20220712T133349Z
UID:2326-1661535000-1661542200@www.entreprendrevert.org
SUMMARY:Apéro aux Journées d’Été des Écologistes
DESCRIPTION:Nous vous donnons rendez-vous à la buvette des Journées d’Été des Écologistes pour discuter ensemble de l’articulation entre écologie politique et entrepreunariat.  \nLes Journées d’Été des Écologistes\, qu’est-ce que c’est ? C’est un rassemblement annuel de réflexion autour de l’écologie politique avec au programme : des ateliers\, des tables rondes\, des animations\, de quoi se restaurer… Cette année\, l’évènement aura lieu du 25 au 27 Août à Grenoble. Plus d’info par ici.
URL:https://www.entreprendrevert.org/event/apero-aux-journees-dete-des-ecologistes/
LOCATION:Grenoble\, France
CATEGORIES:Agenda
ATTACH;FMTTYPE=image/png:https://www.entreprendrevert.org/wp-content/uploads/2022/07/Facebook-Cover-Apéro-Journées-dÉté-des-Écologistes-1.png
END:VEVENT
END:VCALENDAR